BEGIN:VCALENDAR
VERSION:2.0
PRODID:-//EPSS//Seminars//EN
BEGIN:VEVENT
UID:seminar-15104@epss.ucla.edu
DTSTAMP:20260424T085132Z
DTSTART:20260309T153000Z
DTEND:20260309T163000Z
SUMMARY:High angular resolution imaging of asteroids and their satellites
LOCATION:Slichter Hall Room 3853 
DESCRIPTION:Date:&nbsp\;2026-03-09 00:00:00



Time:&nbsp\;12:00 – 1:00pm



Location:&nbsp\;3853 Slichter Hall



Presented By:Kate Minker&nbsp\; – Lowell Observatory



Abstract:Asteroids are the leftover building blocks that accreted to form the terrestrial planets. As such\, they tell us about the initial conditions that existed in our solar nebula some 4.6 Gyrs ago. In particular\, their density and internal structure result directly from their place and time of formation. Large asteroids with satellites represent the best opportunity to probe these fundamental parameters\, and high-angular resolution imaging techniques provide the most effective tool to study these objects without visitation. I will discuss how recent developments in instrumentation and image processing techniques have allowed us to improve our understanding of asteroid shapes\, internal structure\, and satellite dynamics\, as well as what this improved understanding can reveal at a population level.
URL:https://epss.ucla.edu/high-angular-resolution-imaging-of-asteroids-and-their-satellites/
END:VEVENT
END:VCALENDAR
